BEGIN:VCALENDAR
VERSION:2.0
PRODID:-//Plone.org//NONSGML plone.app.event//EN
X-WR-TIMEZONE:Europe/Rome
BEGIN:VEVENT
SUMMARY:Kick-off meeting
DTSTART;VALUE=DATE:20221015
DTEND;VALUE=DATE:20221016
DTSTAMP;VALUE=DATE-TIME:20260420T143053Z
UID:b654b550bc3645a9988e1c902fd9a278@aavolution
CREATED;VALUE=DATE-TIME:20231117T094355Z
LAST-MODIFIED;VALUE=DATE-TIME:20231117T101121Z
LOCATION:Telethon Institute of Genetics and Medicine - Pozzuoli\, Naples\,
  ITALY
URL:https://www.aavolution.eu/events/kick-off-meeting
END:VEVENT
END:VCALENDAR
